{"text_format":"3","workbook":"xlsx","n_sheets":13,"sheets":["Übersicht","Januar","Februar","März","April","Mai","Juni","Juli","August","September","Oktober","November","Dezember"],"not_rendered":{"charts":1},"read":"whole","date_system":"1900"}

{"sheet":"Übersicht","index":0,"n_rows":16,"n_cols":9,"rows_kept":16,"merged":[[0,0,0,8],[1,0,1,8],[2,0,2,5],[3,0,3,5],[4,0,4,5],[5,0,5,5],[6,0,6,5],[7,0,7,5],[8,0,8,5],[9,0,9,5],[10,0,10,5],[11,0,11,5],[12,0,12,5],[13,0,13,5],[14,0,14,5],[15,0,15,5],[16,0,16,5],[17,0,17,5],[18,0,18,5],[19,0,19,5],[20,0,20,5],[21,0,21,5],[22,0,22,5],[23,0,23,5],[27,2,27,3],[28,2,28,3],[29,2,29,3],[30,2,30,3],[31,2,31,3],[32,2,32,3],[33,2,33,3],[34,2,34,3],[35,2,35,3],[36,2,36,3],[37,2,37,3],[38,2,38,3]]}
["EINNAHMENÜBERSICHT"]
[2016]
["Monat",{"$nulls":5},"Netto","MwSt.","Summe"]
["Januar",{"$nulls":5},{"$f":"Januar!G23","v":{"v":123,"d":"123.00 €"}},{"$f":"Januar!H23","v":{"v":23.37,"d":"23.37 €"}},{"$f":"Januar!I23","v":{"v":146.37,"d":"146.37 €"}}]
["Februar",{"$nulls":5},{"$f":"Februar!G23","v":{"v":100,"d":"100.00 €"}},{"$f":"Februar!H23","v":{"v":19,"d":"19.00 €"}},{"$f":"Februar!I23","v":{"v":119,"d":"119.00 €"}}]
["März",{"$nulls":5},{"$f":"März!G23","v":{"v":123,"d":"123.00 €"}},{"$f":"März!H23","v":{"v":23.37,"d":"23.37 €"}},{"$f":"März!I23","v":{"v":146.37,"d":"146.37 €"}}]
["April",{"$nulls":5},{"$f":"April!G23","v":{"v":100,"d":"100.00 €"}},{"$f":"April!H23","v":{"v":19,"d":"19.00 €"}},{"$f":"April!I23","v":{"v":119,"d":"119.00 €"}}]
["Mai",{"$nulls":5},{"$f":"Mai!G23","v":{"v":123,"d":"123.00 €"}},{"$f":"Mai!H23","v":{"v":23.37,"d":"23.37 €"}},{"$f":"Mai!I23","v":{"v":146.37,"d":"146.37 €"}}]
["Juni",{"$nulls":5},{"$f":"Juni!G23","v":{"v":200,"d":"200.00 €"}},{"$f":"Juni!H23","v":{"v":38,"d":"38.00 €"}},{"$f":"Juni!I23","v":{"v":238,"d":"238.00 €"}}]
["Juli",{"$nulls":5},{"$f":"Juli!G23","v":{"v":123,"d":"123.00 €"}},{"$f":"Juli!H23","v":{"v":23.37,"d":"23.37 €"}},{"$f":"Juli!I23","v":{"v":146.37,"d":"146.37 €"}}]
["August",{"$nulls":5},{"$f":"August!G23","v":{"v":400,"d":"400.00 €"}},{"$f":"August!H23","v":{"v":76,"d":"76.00 €"}},{"$f":"August!I23","v":{"v":476,"d":"476.00 €"}}]
["September",{"$nulls":5},{"$f":"September!G23","v":{"v":123,"d":"123.00 €"}},{"$f":"September!H23","v":{"v":23.37,"d":"23.37 €"}},{"$f":"September!I23","v":{"v":146.37,"d":"146.37 €"}}]
["Oktober",{"$nulls":5},{"$f":"Oktober!G23","v":{"v":100,"d":"100.00 €"}},{"$f":"Oktober!H23","v":{"v":19,"d":"19.00 €"}},{"$f":"Oktober!I23","v":{"v":119,"d":"119.00 €"}}]
["November",{"$nulls":5},{"$f":"November!G23","v":{"v":123,"d":"123.00 €"}},{"$f":"November!H23","v":{"v":23.37,"d":"23.37 €"}},{"$f":"November!I23","v":{"v":146.37,"d":"146.37 €"}}]
["Dezember",{"$nulls":5},{"$f":"Dezember!G23","v":{"v":200,"d":"200.00 €"}},{"$f":"Dezember!H23","v":{"v":38,"d":"38.00 €"}},{"$f":"Dezember!I23","v":{"v":238,"d":"238.00 €"}}]
["Summe:",{"$nulls":5},{"$f":"SUM(G4:G15)","v":{"v":1838,"d":"1,838.00 €"}},{"$f":"SUM(H4:H15)","v":{"v":349.22,"d":"349.22 €"}},{"$f":"SUM(I4:I15)","v":{"v":2187.22,"d":"2,187.22 €"}}]

{"sheet":"Januar","index":1,"n_rows":23,"n_cols":9,"rows_kept":23,"merged":[[0,0,0,8],[1,0,1,4],[1,5,1,8],[2,2,2,5],[3,2,3,5],[4,2,4,5],[5,2,5,5],[6,2,6,5],[7,2,7,5],[8,2,8,5],[9,2,9,5],[10,2,10,5],[11,2,11,5],[12,2,12,5],[13,2,13,5],[14,2,14,5],[15,2,15,5],[16,2,16,5],[17,2,17,5],[18,2,18,5],[19,2,19,5],[20,2,20,5],[21,2,21,5],[22,0,22,5],[23,2,23,5],[24,2,24,5],[25,2,25,5],[26,2,26,5],[27,2,27,3],[28,2,28,3],[29,2,29,3],[30,2,30,3],[31,2,31,3],[32,2,32,3],[33,2,33,3],[34,2,34,3],[35,2,35,3],[36,2,36,3],[37,2,37,3],[38,2,38,3]]}
["EINNAHMENÜBERSICHT"]
[2016,{"$nulls":4},"JANUAR"]
["Nr.","Datum","Beschreibung",{"$nulls":3},"Netto","MwSt.","Summe"]
[1,"2016-01-01","Artikel  Z / Rechnung XY",{"$nulls":3},{"v":123,"d":"123.00 €"},{"v":23.37,"d":"23.37 €"},{"$f":"H4+G4","v":{"v":146.37,"d":"146.37 €"}}]
{"$rows_empty":18}
["Summe: ",{"$nulls":5},{"$f":"SUM(G4:G22)","v":{"v":123,"d":"123.00 €"}},{"$f":"SUM(H4:H22)","v":{"v":23.37,"d":"23.37 €"}},{"$f":"SUM(I4:I22)","v":{"v":146.37,"d":"146.37 €"}}]

{"sheet":"Februar","index":2,"n_rows":23,"n_cols":9,"rows_kept":23,"merged":[[0,0,0,8],[1,0,1,4],[1,5,1,8],[2,2,2,5],[3,2,3,5],[4,2,4,5],[5,2,5,5],[6,2,6,5],[7,2,7,5],[8,2,8,5],[9,2,9,5],[10,2,10,5],[11,2,11,5],[12,2,12,5],[13,2,13,5],[14,2,14,5],[15,2,15,5],[16,2,16,5],[17,2,17,5],[18,2,18,5],[19,2,19,5],[20,2,20,5],[21,2,21,5],[22,0,22,5],[23,2,23,5],[24,2,24,5],[25,2,25,5],[26,2,26,5],[27,2,27,3],[28,2,28,3],[29,2,29,3],[30,2,30,3],[31,2,31,3],[32,2,32,3],[33,2,33,3],[34,2,34,3],[35,2,35,3],[36,2,36,3],[37,2,37,3],[38,2,38,3]]}
["EINNAHMENÜBERSICHT"]
[2016,{"$nulls":4},"FEBRUAR"]
["Nr.","Datum","Beschreibung",{"$nulls":3},"Netto","MwSt.","Summe"]
[1,"2016-02-01","Artikel  Z / Rechnung XY",{"$nulls":3},{"v":100,"d":"100.00 €"},{"v":19,"d":"19.00 €"},{"$f":"H4+G4","v":{"v":119,"d":"119.00 €"}}]
{"$rows_empty":18}
["Summe: ",{"$nulls":5},{"$f":"SUM(G4:G22)","v":{"v":100,"d":"100.00 €"}},{"$f":"SUM(H4:H22)","v":{"v":19,"d":"19.00 €"}},{"$f":"SUM(I4:I22)","v":{"v":119,"d":"119.00 €"}}]

{"sheet":"März","index":3,"n_rows":23,"n_cols":9,"rows_kept":23,"merged":[[0,0,0,8],[1,0,1,4],[1,5,1,8],[2,2,2,5],[3,2,3,5],[4,2,4,5],[5,2,5,5],[6,2,6,5],[7,2,7,5],[8,2,8,5],[9,2,9,5],[10,2,10,5],[11,2,11,5],[12,2,12,5],[13,2,13,5],[14,2,14,5],[15,2,15,5],[16,2,16,5],[17,2,17,5],[18,2,18,5],[19,2,19,5],[20,2,20,5],[21,2,21,5],[22,0,22,5],[23,2,23,5],[24,2,24,5],[25,2,25,5],[26,2,26,5],[27,2,27,3],[28,2,28,3],[29,2,29,3],[30,2,30,3],[31,2,31,3],[32,2,32,3],[33,2,33,3],[34,2,34,3],[35,2,35,3],[36,2,36,3],[37,2,37,3],[38,2,38,3]]}
["EINNAHMENÜBERSICHT"]
[2016,{"$nulls":4},"MÄRZ"]
["Nr.","Datum","Beschreibung",{"$nulls":3},"Netto","MwSt.","Summe"]
[1,"2016-03-01","Artikel  Z / Rechnung XY",{"$nulls":3},{"v":123,"d":"123.00 €"},{"v":23.37,"d":"23.37 €"},{"$f":"H4+G4","v":{"v":146.37,"d":"146.37 €"}}]
{"$rows_empty":18}
["Summe: ",{"$nulls":5},{"$f":"SUM(G4:G22)","v":{"v":123,"d":"123.00 €"}},{"$f":"SUM(H4:H22)","v":{"v":23.37,"d":"23.37 €"}},{"$f":"SUM(I4:I22)","v":{"v":146.37,"d":"146.37 €"}}]

{"sheet":"April","index":4,"n_rows":23,"n_cols":9,"rows_kept":23,"merged":[[0,0,0,8],[1,0,1,4],[1,5,1,8],[2,2,2,5],[3,2,3,5],[4,2,4,5],[5,2,5,5],[6,2,6,5],[7,2,7,5],[8,2,8,5],[9,2,9,5],[10,2,10,5],[11,2,11,5],[12,2,12,5],[13,2,13,5],[14,2,14,5],[15,2,15,5],[16,2,16,5],[17,2,17,5],[18,2,18,5],[19,2,19,5],[20,2,20,5],[21,2,21,5],[22,0,22,5],[23,2,23,5],[24,2,24,5],[25,2,25,5],[26,2,26,5],[27,2,27,3],[28,2,28,3],[29,2,29,3],[30,2,30,3],[31,2,31,3],[32,2,32,3],[33,2,33,3],[34,2,34,3],[35,2,35,3],[36,2,36,3],[37,2,37,3],[38,2,38,3]]}
["EINNAHMENÜBERSICHT"]
[2016,{"$nulls":4},"APRIL"]
["Nr.","Datum","Beschreibung",{"$nulls":3},"Netto","MwSt.","Summe"]
[1,"2016-04-01","Artikel  Z / Rechnung XY",{"$nulls":3},{"v":100,"d":"100.00 €"},{"v":19,"d":"19.00 €"},{"$f":"H4+G4","v":{"v":119,"d":"119.00 €"}}]
{"$rows_empty":18}
["Summe: ",{"$nulls":5},{"$f":"SUM(G4:G22)","v":{"v":100,"d":"100.00 €"}},{"$f":"SUM(H4:H22)","v":{"v":19,"d":"19.00 €"}},{"$f":"SUM(I4:I22)","v":{"v":119,"d":"119.00 €"}}]

{"sheet":"Mai","index":5,"n_rows":23,"n_cols":9,"rows_kept":23,"merged":[[0,0,0,8],[1,0,1,4],[1,5,1,8],[2,2,2,5],[3,2,3,5],[4,2,4,5],[5,2,5,5],[6,2,6,5],[7,2,7,5],[8,2,8,5],[9,2,9,5],[10,2,10,5],[11,2,11,5],[12,2,12,5],[13,2,13,5],[14,2,14,5],[15,2,15,5],[16,2,16,5],[17,2,17,5],[18,2,18,5],[19,2,19,5],[20,2,20,5],[21,2,21,5],[22,0,22,5],[23,2,23,5],[24,2,24,5],[25,2,25,5],[26,2,26,5],[27,2,27,3],[28,2,28,3],[29,2,29,3],[30,2,30,3],[31,2,31,3],[32,2,32,3],[33,2,33,3],[34,2,34,3],[35,2,35,3],[36,2,36,3],[37,2,37,3],[38,2,38,3]]}
["EINNAHMENÜBERSICHT"]
[2016,{"$nulls":4},"MAI"]
["Nr.","Datum","Beschreibung",{"$nulls":3},"Netto","MwSt.","Summe"]
[1,"2016-05-01","Artikel  Z / Rechnung XY",{"$nulls":3},{"v":123,"d":"123.00 €"},{"v":23.37,"d":"23.37 €"},{"$f":"H4+G4","v":{"v":146.37,"d":"146.37 €"}}]
{"$rows_empty":18}
["Summe: ",{"$nulls":5},{"$f":"SUM(G4:G22)","v":{"v":123,"d":"123.00 €"}},{"$f":"SUM(H4:H22)","v":{"v":23.37,"d":"23.37 €"}},{"$f":"SUM(I4:I22)","v":{"v":146.37,"d":"146.37 €"}}]

{"sheet":"Juni","index":6,"n_rows":23,"n_cols":9,"rows_kept":23,"merged":[[0,0,0,8],[1,0,1,4],[1,5,1,8],[2,2,2,5],[3,2,3,5],[4,2,4,5],[5,2,5,5],[6,2,6,5],[7,2,7,5],[8,2,8,5],[9,2,9,5],[10,2,10,5],[11,2,11,5],[12,2,12,5],[13,2,13,5],[14,2,14,5],[15,2,15,5],[16,2,16,5],[17,2,17,5],[18,2,18,5],[19,2,19,5],[20,2,20,5],[21,2,21,5],[22,0,22,5],[23,2,23,5],[24,2,24,5],[25,2,25,5],[26,2,26,5],[27,2,27,3],[28,2,28,3],[29,2,29,3],[30,2,30,3],[31,2,31,3],[32,2,32,3],[33,2,33,3],[34,2,34,3],[35,2,35,3],[36,2,36,3],[37,2,37,3],[38,2,38,3]]}
["EINNAHMENÜBERSICHT"]
[2016,{"$nulls":4},"JUNI"]
["Nr.","Datum","Beschreibung",{"$nulls":3},"Netto","MwSt.","Summe"]
[1,"2016-06-01","Artikel  Z / Rechnung XY",{"$nulls":3},{"v":200,"d":"200.00 €"},{"v":38,"d":"38.00 €"},{"$f":"H4+G4","v":{"v":238,"d":"238.00 €"}}]
{"$rows_empty":18}
["Summe: ",{"$nulls":5},{"$f":"SUM(G4:G22)","v":{"v":200,"d":"200.00 €"}},{"$f":"SUM(H4:H22)","v":{"v":38,"d":"38.00 €"}},{"$f":"SUM(I4:I22)","v":{"v":238,"d":"238.00 €"}}]

{"sheet":"Juli","index":7,"n_rows":23,"n_cols":9,"rows_kept":23,"merged":[[0,0,0,8],[1,0,1,4],[1,5,1,8],[2,2,2,5],[3,2,3,5],[4,2,4,5],[5,2,5,5],[6,2,6,5],[7,2,7,5],[8,2,8,5],[9,2,9,5],[10,2,10,5],[11,2,11,5],[12,2,12,5],[13,2,13,5],[14,2,14,5],[15,2,15,5],[16,2,16,5],[17,2,17,5],[18,2,18,5],[19,2,19,5],[20,2,20,5],[21,2,21,5],[22,0,22,5],[23,2,23,5],[24,2,24,5],[25,2,25,5],[26,2,26,5],[27,2,27,3],[28,2,28,3],[29,2,29,3],[30,2,30,3],[31,2,31,3],[32,2,32,3],[33,2,33,3],[34,2,34,3],[35,2,35,3],[36,2,36,3],[37,2,37,3],[38,2,38,3]]}
["EINNAHMENÜBERSICHT"]
[2016,{"$nulls":4},"JULI"]
["Nr.","Datum","Beschreibung",{"$nulls":3},"Netto","MwSt.","Summe"]
[1,"2016-07-01","Artikel  Z / Rechnung XY",{"$nulls":3},{"v":123,"d":"123.00 €"},{"v":23.37,"d":"23.37 €"},{"$f":"H4+G4","v":{"v":146.37,"d":"146.37 €"}}]
{"$rows_empty":18}
["Summe: ",{"$nulls":5},{"$f":"SUM(G4:G22)","v":{"v":123,"d":"123.00 €"}},{"$f":"SUM(H4:H22)","v":{"v":23.37,"d":"23.37 €"}},{"$f":"SUM(I4:I22)","v":{"v":146.37,"d":"146.37 €"}}]

{"sheet":"August","index":8,"n_rows":23,"n_cols":9,"rows_kept":23,"merged":[[0,0,0,8],[1,0,1,4],[1,5,1,8],[2,2,2,5],[3,2,3,5],[4,2,4,5],[5,2,5,5],[6,2,6,5],[7,2,7,5],[8,2,8,5],[9,2,9,5],[10,2,10,5],[11,2,11,5],[12,2,12,5],[13,2,13,5],[14,2,14,5],[15,2,15,5],[16,2,16,5],[17,2,17,5],[18,2,18,5],[19,2,19,5],[20,2,20,5],[21,2,21,5],[22,0,22,5],[23,2,23,5],[24,2,24,5],[25,2,25,5],[26,2,26,5],[27,2,27,3],[28,2,28,3],[29,2,29,3],[30,2,30,3],[31,2,31,3],[32,2,32,3],[33,2,33,3],[34,2,34,3],[35,2,35,3],[36,2,36,3],[37,2,37,3],[38,2,38,3]]}
["EINNAHMENÜBERSICHT"]
[2016,{"$nulls":4},"AUGUST"]
["Nr.","Datum","Beschreibung",{"$nulls":3},"Netto","MwSt.","Summe"]
[1,"2016-08-01","Artikel  Z / Rechnung XY",{"$nulls":3},{"v":400,"d":"400.00 €"},{"v":76,"d":"76.00 €"},{"$f":"H4+G4","v":{"v":476,"d":"476.00 €"}}]
{"$rows_empty":18}
["Summe: ",{"$nulls":5},{"$f":"SUM(G4:G22)","v":{"v":400,"d":"400.00 €"}},{"$f":"SUM(H4:H22)","v":{"v":76,"d":"76.00 €"}},{"$f":"SUM(I4:I22)","v":{"v":476,"d":"476.00 €"}}]

{"sheet":"September","index":9,"n_rows":23,"n_cols":9,"rows_kept":23,"merged":[[0,0,0,8],[1,0,1,4],[1,5,1,8],[2,2,2,5],[3,2,3,5],[4,2,4,5],[5,2,5,5],[6,2,6,5],[7,2,7,5],[8,2,8,5],[9,2,9,5],[10,2,10,5],[11,2,11,5],[12,2,12,5],[13,2,13,5],[14,2,14,5],[15,2,15,5],[16,2,16,5],[17,2,17,5],[18,2,18,5],[19,2,19,5],[20,2,20,5],[21,2,21,5],[22,0,22,5],[23,2,23,5],[24,2,24,5],[25,2,25,5],[26,2,26,5],[27,2,27,3],[28,2,28,3],[29,2,29,3],[30,2,30,3],[31,2,31,3],[32,2,32,3],[33,2,33,3],[34,2,34,3],[35,2,35,3],[36,2,36,3],[37,2,37,3],[38,2,38,3]]}
["EINNAHMENÜBERSICHT"]
[2016,{"$nulls":4},"SEPTEMBER"]
["Nr.","Datum","Beschreibung",{"$nulls":3},"Netto","MwSt.","Summe"]
[1,"2016-09-01","Artikel  Z / Rechnung XY",{"$nulls":3},{"v":123,"d":"123.00 €"},{"v":23.37,"d":"23.37 €"},{"$f":"H4+G4","v":{"v":146.37,"d":"146.37 €"}}]
{"$rows_empty":18}
["Summe: ",{"$nulls":5},{"$f":"SUM(G4:G22)","v":{"v":123,"d":"123.00 €"}},{"$f":"SUM(H4:H22)","v":{"v":23.37,"d":"23.37 €"}},{"$f":"SUM(I4:I22)","v":{"v":146.37,"d":"146.37 €"}}]

{"sheet":"Oktober","index":10,"n_rows":23,"n_cols":9,"rows_kept":23,"merged":[[0,0,0,8],[1,0,1,4],[1,5,1,8],[2,2,2,5],[3,2,3,5],[4,2,4,5],[5,2,5,5],[6,2,6,5],[7,2,7,5],[8,2,8,5],[9,2,9,5],[10,2,10,5],[11,2,11,5],[12,2,12,5],[13,2,13,5],[14,2,14,5],[15,2,15,5],[16,2,16,5],[17,2,17,5],[18,2,18,5],[19,2,19,5],[20,2,20,5],[21,2,21,5],[22,0,22,5],[23,2,23,5],[24,2,24,5],[25,2,25,5],[26,2,26,5],[27,2,27,3],[28,2,28,3],[29,2,29,3],[30,2,30,3],[31,2,31,3],[32,2,32,3],[33,2,33,3],[34,2,34,3],[35,2,35,3],[36,2,36,3],[37,2,37,3],[38,2,38,3]]}
["EINNAHMENÜBERSICHT"]
[2016,{"$nulls":4},"OKTOBER"]
["Nr.","Datum","Beschreibung",{"$nulls":3},"Netto","MwSt.","Summe"]
[1,"2016-10-01","Artikel  Z / Rechnung XY",{"$nulls":3},{"v":100,"d":"100.00 €"},{"v":19,"d":"19.00 €"},{"$f":"H4+G4","v":{"v":119,"d":"119.00 €"}}]
{"$rows_empty":18}
["Summe: ",{"$nulls":5},{"$f":"SUM(G4:G22)","v":{"v":100,"d":"100.00 €"}},{"$f":"SUM(H4:H22)","v":{"v":19,"d":"19.00 €"}},{"$f":"SUM(I4:I22)","v":{"v":119,"d":"119.00 €"}}]

{"sheet":"November","index":11,"n_rows":23,"n_cols":9,"rows_kept":23,"merged":[[0,0,0,8],[1,0,1,4],[1,5,1,8],[2,2,2,5],[3,2,3,5],[4,2,4,5],[5,2,5,5],[6,2,6,5],[7,2,7,5],[8,2,8,5],[9,2,9,5],[10,2,10,5],[11,2,11,5],[12,2,12,5],[13,2,13,5],[14,2,14,5],[15,2,15,5],[16,2,16,5],[17,2,17,5],[18,2,18,5],[19,2,19,5],[20,2,20,5],[21,2,21,5],[22,0,22,5],[23,2,23,5],[24,2,24,5],[25,2,25,5],[26,2,26,5],[27,2,27,3],[28,2,28,3],[29,2,29,3],[30,2,30,3],[31,2,31,3],[32,2,32,3],[33,2,33,3],[34,2,34,3],[35,2,35,3],[36,2,36,3],[37,2,37,3],[38,2,38,3]]}
["EINNAHMENÜBERSICHT"]
[2016,{"$nulls":4},"NOVEMBER"]
["Nr.","Datum","Beschreibung",{"$nulls":3},"Netto","MwSt.","Summe"]
[1,"2016-11-01","Artikel  Z / Rechnung XY",{"$nulls":3},{"v":123,"d":"123.00 €"},{"v":23.37,"d":"23.37 €"},{"$f":"H4+G4","v":{"v":146.37,"d":"146.37 €"}}]
{"$rows_empty":18}
["Summe: ",{"$nulls":5},{"$f":"SUM(G4:G22)","v":{"v":123,"d":"123.00 €"}},{"$f":"SUM(H4:H22)","v":{"v":23.37,"d":"23.37 €"}},{"$f":"SUM(I4:I22)","v":{"v":146.37,"d":"146.37 €"}}]

{"sheet":"Dezember","index":12,"n_rows":23,"n_cols":9,"rows_kept":23,"merged":[[0,0,0,8],[1,0,1,4],[1,5,1,8],[2,2,2,5],[3,2,3,5],[4,2,4,5],[5,2,5,5],[6,2,6,5],[7,2,7,5],[8,2,8,5],[9,2,9,5],[10,2,10,5],[11,2,11,5],[12,2,12,5],[13,2,13,5],[14,2,14,5],[15,2,15,5],[16,2,16,5],[17,2,17,5],[18,2,18,5],[19,2,19,5],[20,2,20,5],[21,2,21,5],[22,0,22,5],[23,2,23,5],[24,2,24,5],[25,2,25,5],[26,2,26,5],[27,2,27,3],[28,2,28,3],[29,2,29,3],[30,2,30,3],[31,2,31,3],[32,2,32,3],[33,2,33,3],[34,2,34,3],[35,2,35,3],[36,2,36,3],[37,2,37,3],[38,2,38,3]]}
["EINNAHMENÜBERSICHT"]
[2016,{"$nulls":4},"DEZEMBER"]
["Nr.","Datum","Beschreibung",{"$nulls":3},"Netto","MwSt.","Summe"]
[1,"2016-12-01","Artikel  Z / Rechnung XY",{"$nulls":3},{"v":200,"d":"200.00 €"},{"v":38,"d":"38.00 €"},{"$f":"H4+G4","v":{"v":238,"d":"238.00 €"}}]
{"$rows_empty":18}
["Summe: ",{"$nulls":5},{"$f":"SUM(G4:G22)","v":{"v":200,"d":"200.00 €"}},{"$f":"SUM(H4:H22)","v":{"v":38,"d":"38.00 €"}},{"$f":"SUM(I4:I22)","v":{"v":238,"d":"238.00 €"}}]