{"text_format":"3","workbook":"xlsx","n_sheets":13,"sheets":["Fixe Einahmen&Ausgaben","Januar","Februar","März","April","Mai","Juni","Juli","August","September","Oktober","November","Dezember"],"read":"whole","date_system":"1900"}

{"sheet":"Fixe Einahmen&Ausgaben","index":0,"n_rows":17,"n_cols":2,"rows_kept":17,"merged":[[2,0,2,1],[9,0,9,1]]}
["Fixe Einnahmen und Ausgaben im Monat"]
[]
["Einnahmen"]
["Lohn",{"v":2500,"d":"2,500.00 €"}]
["sonstiges"]
[]
["Summe",{"$f":"SUM(B4:B6)","v":{"v":2500,"d":"2,500.00 €"}}]
[]
[]
["Fixe Ausgaben"]
["Miete",{"v":300,"d":"300.00 €"}]
["Versicherung 1"]
["Versicherung 2"]
[]
[]
[]
["Summe",{"$f":"SUM(B11:B16)","v":{"v":300,"d":"300.00 €"}}]

{"sheet":"Januar","index":1,"n_rows":8,"n_cols":7,"rows_kept":8,"merged":[[6,0,6,2],[6,4,6,6]]}
["Januar"]
[]
["Einnahmen",{"$f":"'Fixe Einahmen&Ausgaben'!B7","v":{"v":2500,"d":"2,500.00 €"}},null,null,"Endsumme",{"$f":"B3-B4-SUM(C9:C93)+SUM(G9:G14)","v":{"v":2200,"d":"2,200.00 €"}}]
["Ausgaben",{"$f":"'Fixe Einahmen&Ausgaben'!B17","v":{"v":300,"d":"300.00 €"}}]
[]
[]
["Ausgaben",{"$nulls":3},"Andere Einnahmen"]
["Datum","Beschreibung","Preis",null,"Datum","Beschreibung","Preis"]

{"sheet":"Februar","index":2,"n_rows":8,"n_cols":7,"rows_kept":8,"merged":[[6,0,6,2],[6,4,6,6]]}
["Februar"]
[]
["Einnahmen",{"$f":"'Fixe Einahmen&Ausgaben'!B7","v":{"v":2500,"d":"2,500.00 €"}},null,null,"Endsumme",{"$f":"B3-B4-SUM(C9:C93)+SUM(G9:G14)","v":{"v":2200,"d":"2,200.00 €"}}]
["Ausgaben",{"$f":"'Fixe Einahmen&Ausgaben'!B17","v":{"v":300,"d":"300.00 €"}}]
[]
[]
["Ausgaben",{"$nulls":3},"Andere Einnahmen"]
["Datum","Beschreibung","Preis",null,"Datum","Beschreibung","Preis"]

{"sheet":"März","index":3,"n_rows":8,"n_cols":7,"rows_kept":8,"merged":[[6,0,6,2],[6,4,6,6]]}
["März"]
[]
["Einnahmen",{"$f":"'Fixe Einahmen&Ausgaben'!B7","v":{"v":2500,"d":"2,500.00 €"}},null,null,"Endsumme",{"$f":"B3-B4-SUM(C9:C93)+SUM(G9:G14)","v":{"v":2200,"d":"2,200.00 €"}}]
["Ausgaben",{"$f":"'Fixe Einahmen&Ausgaben'!B17","v":{"v":300,"d":"300.00 €"}}]
[]
[]
["Ausgaben",{"$nulls":3},"Andere Einnahmen"]
["Datum","Beschreibung","Preis",null,"Datum","Beschreibung","Preis"]

{"sheet":"April","index":4,"n_rows":8,"n_cols":7,"rows_kept":8,"merged":[[6,0,6,2],[6,4,6,6]]}
["April"]
[]
["Einnahmen",{"$f":"'Fixe Einahmen&Ausgaben'!B7","v":{"v":2500,"d":"2,500.00 €"}},null,null,"Endsumme",{"$f":"B3-B4-SUM(C9:C93)+SUM(G9:G14)","v":{"v":2200,"d":"2,200.00 €"}}]
["Ausgaben",{"$f":"'Fixe Einahmen&Ausgaben'!B17","v":{"v":300,"d":"300.00 €"}}]
[]
[]
["Ausgaben",{"$nulls":3},"Andere Einnahmen"]
["Datum","Beschreibung","Preis",null,"Datum","Beschreibung","Preis"]

{"sheet":"Mai","index":5,"n_rows":8,"n_cols":7,"rows_kept":8,"merged":[[6,0,6,2],[6,4,6,6]]}
["Mai"]
[]
["Einnahmen",{"$f":"'Fixe Einahmen&Ausgaben'!B7","v":{"v":2500,"d":"2,500.00 €"}},null,null,"Endsumme",{"$f":"B3-B4-SUM(C9:C93)+SUM(G9:G14)","v":{"v":2200,"d":"2,200.00 €"}}]
["Ausgaben",{"$f":"'Fixe Einahmen&Ausgaben'!B17","v":{"v":300,"d":"300.00 €"}}]
[]
[]
["Ausgaben",{"$nulls":3},"Andere Einnahmen"]
["Datum","Beschreibung","Preis",null,"Datum","Beschreibung","Preis"]

{"sheet":"Juni","index":6,"n_rows":8,"n_cols":7,"rows_kept":8,"merged":[[6,0,6,2],[6,4,6,6]]}
["Juni"]
[]
["Einnahmen",{"$f":"'Fixe Einahmen&Ausgaben'!B7","v":{"v":2500,"d":"2,500.00 €"}},null,null,"Endsumme",{"$f":"B3-B4-SUM(C9:C93)+SUM(G9:G14)","v":{"v":2200,"d":"2,200.00 €"}}]
["Ausgaben",{"$f":"'Fixe Einahmen&Ausgaben'!B17","v":{"v":300,"d":"300.00 €"}}]
[]
[]
["Ausgaben",{"$nulls":3},"Andere Einnahmen"]
["Datum","Beschreibung","Preis",null,"Datum","Beschreibung","Preis"]

{"sheet":"Juli","index":7,"n_rows":8,"n_cols":7,"rows_kept":8,"merged":[[6,0,6,2],[6,4,6,6]]}
["Juli"]
[]
["Einnahmen",{"$f":"'Fixe Einahmen&Ausgaben'!B7","v":{"v":2500,"d":"2,500.00 €"}},null,null,"Endsumme",{"$f":"B3-B4-SUM(C9:C93)+SUM(G9:G14)","v":{"v":2200,"d":"2,200.00 €"}}]
["Ausgaben",{"$f":"'Fixe Einahmen&Ausgaben'!B17","v":{"v":300,"d":"300.00 €"}}]
[]
[]
["Ausgaben",{"$nulls":3},"Andere Einnahmen"]
["Datum","Beschreibung","Preis",null,"Datum","Beschreibung","Preis"]

{"sheet":"August","index":8,"n_rows":8,"n_cols":7,"rows_kept":8,"merged":[[6,0,6,2],[6,4,6,6]]}
["August"]
[]
["Einnahmen",{"$f":"'Fixe Einahmen&Ausgaben'!B7","v":{"v":2500,"d":"2,500.00 €"}},null,null,"Endsumme",{"$f":"B3-B4-SUM(C9:C93)+SUM(G9:G14)","v":{"v":2200,"d":"2,200.00 €"}}]
["Ausgaben",{"$f":"'Fixe Einahmen&Ausgaben'!B17","v":{"v":300,"d":"300.00 €"}}]
[]
[]
["Ausgaben",{"$nulls":3},"Andere Einnahmen"]
["Datum","Beschreibung","Preis",null,"Datum","Beschreibung","Preis"]

{"sheet":"September","index":9,"n_rows":8,"n_cols":7,"rows_kept":8,"merged":[[6,0,6,2],[6,4,6,6]]}
["September"]
[]
["Einnahmen",{"$f":"'Fixe Einahmen&Ausgaben'!B7","v":{"v":2500,"d":"2,500.00 €"}},null,null,"Endsumme",{"$f":"B3-B4-SUM(C9:C93)+SUM(G9:G14)","v":{"v":2200,"d":"2,200.00 €"}}]
["Ausgaben",{"$f":"'Fixe Einahmen&Ausgaben'!B17","v":{"v":300,"d":"300.00 €"}}]
[]
[]
["Ausgaben",{"$nulls":3},"Andere Einnahmen"]
["Datum","Beschreibung","Preis",null,"Datum","Beschreibung","Preis"]

{"sheet":"Oktober","index":10,"n_rows":8,"n_cols":7,"rows_kept":8,"merged":[[6,0,6,2],[6,4,6,6]]}
["Oktober"]
[]
["Einnahmen",{"$f":"'Fixe Einahmen&Ausgaben'!B7","v":{"v":2500,"d":"2,500.00 €"}},null,null,"Endsumme",{"$f":"B3-B4-SUM(C9:C93)+SUM(G9:G14)","v":{"v":2200,"d":"2,200.00 €"}}]
["Ausgaben",{"$f":"'Fixe Einahmen&Ausgaben'!B17","v":{"v":300,"d":"300.00 €"}}]
[]
[]
["Ausgaben",{"$nulls":3},"Andere Einnahmen"]
["Datum","Beschreibung","Preis",null,"Datum","Beschreibung","Preis"]

{"sheet":"November","index":11,"n_rows":8,"n_cols":7,"rows_kept":8,"merged":[[6,0,6,2],[6,4,6,6]]}
["November"]
[]
["Einnahmen",{"$f":"'Fixe Einahmen&Ausgaben'!B7","v":{"v":2500,"d":"2,500.00 €"}},null,null,"Endsumme",{"$f":"B3-B4-SUM(C9:C93)+SUM(G9:G14)","v":{"v":2200,"d":"2,200.00 €"}}]
["Ausgaben",{"$f":"'Fixe Einahmen&Ausgaben'!B17","v":{"v":300,"d":"300.00 €"}}]
[]
[]
["Ausgaben",{"$nulls":3},"Andere Einnahmen"]
["Datum","Beschreibung","Preis",null,"Datum","Beschreibung","Preis"]

{"sheet":"Dezember","index":12,"n_rows":8,"n_cols":7,"rows_kept":8,"merged":[[6,0,6,2],[6,4,6,6]]}
["Dezember"]
[]
["Einnahmen",{"$f":"'Fixe Einahmen&Ausgaben'!B7","v":{"v":2500,"d":"2,500.00 €"}},null,null,"Endsumme",{"$f":"B3-B4-SUM(C9:C93)+SUM(G9:G14)","v":{"v":2200,"d":"2,200.00 €"}}]
["Ausgaben",{"$f":"'Fixe Einahmen&Ausgaben'!B17","v":{"v":300,"d":"300.00 €"}}]
[]
[]
["Ausgaben",{"$nulls":3},"Andere Einnahmen"]
["Datum","Beschreibung","Preis",null,"Datum","Beschreibung","Preis"]